BEGIN:VCALENDAR
VERSION:2.0
PRODID:-//Port Aransas Food &amp; Fun | Things To Do in Port Aransas, Texas - ECPv6.15.17.1//NONSGML v1.0//EN
CALSCALE:GREGORIAN
METHOD:PUBLISH
X-WR-CALNAME:Port Aransas Food &amp; Fun | Things To Do in Port Aransas, Texas
X-ORIGINAL-URL:https://myfunporta.com
X-WR-CALDESC:Events for Port Aransas Food &amp; Fun | Things To Do in Port Aransas, Texas
REFRESH-INTERVAL;VALUE=DURATION:PT1H
X-Robots-Tag:noindex
X-PUBLISHED-TTL:PT1H
BEGIN:VTIMEZONE
TZID:America/Chicago
BEGIN:DAYLIGHT
TZOFFSETFROM:-0600
TZOFFSETTO:-0500
TZNAME:CDT
DTSTART:20240310T080000
END:DAYLIGHT
BEGIN:STANDARD
TZOFFSETFROM:-0500
TZOFFSETTO:-0600
TZNAME:CST
DTSTART:20241103T070000
END:STANDARD
BEGIN:DAYLIGHT
TZOFFSETFROM:-0600
TZOFFSETTO:-0500
TZNAME:CDT
DTSTART:20250309T080000
END:DAYLIGHT
BEGIN:STANDARD
TZOFFSETFROM:-0500
TZOFFSETTO:-0600
TZNAME:CST
DTSTART:20251102T070000
END:STANDARD
BEGIN:DAYLIGHT
TZOFFSETFROM:-0600
TZOFFSETTO:-0500
TZNAME:CDT
DTSTART:20260308T080000
END:DAYLIGHT
BEGIN:STANDARD
TZOFFSETFROM:-0500
TZOFFSETTO:-0600
TZNAME:CST
DTSTART:20261101T070000
END:STANDARD
END:VTIMEZONE
BEGIN:VEVENT
DTSTART;TZID=America/Chicago:20250413T140000
DTEND;TZID=America/Chicago:20250413T160000
DTSTAMP:20260423T062335
CREATED:20250206T145844Z
LAST-MODIFIED:20250206T145844Z
UID:1427-1744552800-1744560000@myfunporta.com
SUMMARY:Tea with Me at Tortuga's
DESCRIPTION:April 13\, 2025 | 2-4 PM | $15 per person\nRelax and enjoy a kid’s afternoon tea service at Tortuga’s.\nSavor a delightful selection of teas\, paired with an assortment of elevated tea sandwiches. And of course\, no tea party is complete without sweet treats! \nDress in your Sunday best\, Easter attire\, or favorite springtime outfit for this memorable occasion. \nWe warmly welcome dads\, moms\, and other special caregivers to join the fun! \nReserve your spot today and make “Tea with Me at Tortuga’s” a cherished tradition!
URL:https://myfunporta.com/event/tea-with-me-at-tortugas/
LOCATION:Tortuga’s Saltwater Grill\, 429 N Alister St\, Port Aransas\, TX\, 78373\, United States
ATTACH;FMTTYPE=image/png:https://myfunporta.com/wp-content/uploads/2025/02/tea-with-me.png
END:VEVENT
BEGIN:VEVENT
DTSTART;TZID=America/Chicago:20250420T080000
DTEND;TZID=America/Chicago:20250420T170000
DTSTAMP:20260423T062335
CREATED:20250417T184048Z
LAST-MODIFIED:20250417T184056Z
UID:1473-1745136000-1745168400@myfunporta.com
SUMMARY:Easter Cruise on the Scarlet Lady
DESCRIPTION:Hop aboard the Scarlet Lady Dolphin Adventures this Easter for a deal that’s eggstra special! \nFor one day only\, enjoy 20% off all tickets when you book your dolphin tour on Easter Sunday. \n📅 Valid only on Easter Sunday with promo code: easter25
URL:https://myfunporta.com/event/easter-cruise-on-the-scarlet-lady/
LOCATION:Scarlet Lady Dolphin Cruises\, 440 W. COTTER RD.\, Port Aransas\, TX\, 78373\, United States
ATTACH;FMTTYPE=image/png:https://myfunporta.com/wp-content/uploads/2025/04/SL-easter-1800-x-1080-px.png
END:VEVENT
BEGIN:VEVENT
DTSTART;TZID=America/Chicago:20250420T100000
DTEND;TZID=America/Chicago:20250420T140000
DTSTAMP:20260423T062335
CREATED:20250206T151728Z
LAST-MODIFIED:20250206T152411Z
UID:1429-1745143200-1745157600@myfunporta.com
SUMMARY:Easter Brunch at Tortuga's
DESCRIPTION:Gather with family and friends for a spectacular Easter Brunch at Tortuga’s. Celebrate with a delicious spread of traditional favorites and springtime specialties. Full Brunch Menu and Cocktails will be available.
URL:https://myfunporta.com/event/easter-brunch-at-tortugas/
LOCATION:Tortuga’s Saltwater Grill\, 429 N Alister St\, Port Aransas\, TX\, 78373\, United States
CATEGORIES:Holiday
ATTACH;FMTTYPE=image/png:https://myfunporta.com/wp-content/uploads/2025/02/Easter-Brunch.png
END:VEVENT
BEGIN:VEVENT
DTSTART;VALUE=DATE:20250425
DTEND;VALUE=DATE:20250428
DTSTAMP:20260423T062335
CREATED:20250206T152208Z
LAST-MODIFIED:20250206T152208Z
UID:1431-1745539200-1745798399@myfunporta.com
SUMMARY:Texas SandFest
DESCRIPTION:
URL:https://myfunporta.com/event/texas-sandfest/
LOCATION:Port Aransas\, Texas\, Port Aransas\, TX\, 78373\, United States
ATTACH;FMTTYPE=image/png:https://myfunporta.com/wp-content/uploads/2025/02/Sandfest-25.png
END:VEVENT
END:VCALENDAR